Workbook

Sheet Tabela
A1: Tabela | B1: 45658 | K1: FATOR REAJUSTE | L1: 1
A2: CÓD. | B2: DESCRIÇÃO | C2: PREÇO PARTIDA | D2: PREÇO | E2: CÓD | F2: NCM | G2: COD EAN
A4: # | B4: Linha PRIME
A5: 850 | B5: Disco Diam PORCELANATO FININHO PRIME DIAMOND (turbo) | C5: 20 | D5: =C5*$L$1 -> 20 | E5: 850 | F5: 6804.21.11 | G5: 7898646890 01 6
A6: 144 | B6: Disco Diam TURBO 110 mm PRIME DIAMOND | C6: 20 | D6: =C6*$L$1 -> 20 | E6: 144 | F6: 6804.21.11 | G6: 7898646890 19 1
A7: 190 | B7: Disco Diam SEG 110 PRIME DIAMOND | C7: 20 | D7: =C7*$L$1 -> 20 | E7: 190 | F7: 6804.21.11 | G7: 7898646890 18 4
A8: 837 | B8: Disco Diam PORCELANATO PRIME CONTINUO | C8: 20 | D8: =C8*$L$1 -> 20 | E8: 837 | F8: 6804.21.11 | G8: 7898646890 06 1
A9: 192 | B9: Disco Diam PORCELANTO NET TYPE | C9: 25 | D9: =C9*$L$1 -> 25 | E9: 192 | F9: 6804.21.11 | G9: 7898646890 20 7
A10: # | B10: Linha Extra
A11: 125 | B11: Disco Diam PORCELANATO extra 110 RED DIAMOND | C11: 10 | D11: =C11*$L$1 -> 10 | E11: 125 | F11: 6804.21.11 | G11: 7898926362 51 6
A12: 129 | B12: Disco Diam SEG extra 110 RED DIAMOND | C12: 10 | D12: =C12*$L$1 -> 10 | E12: 129 | F12: 6804.21.11 | G12: 7898926362 43 1
A13: 137 | B13: Disco Diam TURBO extra 110 MM RED DIAMOND | C13: 10 | D13: =C13*$L$1 -> 10 | E13: 137 | F13: 6804.21.11 | G13: 7898926362 42 4
A14: 134 | B14: Disco DiamTURBO 180 MM RED DIAMOND | C14: 35 | D14: =C14*$L$1 -> 35 | E14: 134 | F14: 6804.21.11 | G14: 7898913478 36 7
A15: 135 | B15: Disco Diam SEGMENTADO extra 180 MM RD | C15: 35 | D15: =C15*$L$1 -> 35 | E15: 135 | F15: 6804.21.11 | G15: 7898646890 26 9
A16: 122 | B16: Disco Diam 230 MM RED DIAMOND TURBO | C16: 45 | D16: =C16*$L$1 -> 45 | E16: 122 | F16: 6804.21.11 | G16: 7898913478 58 9
B17: Disco Diam 230 MM RED DIAMOND SEGMENTADO | C17: 45 | D17: =C17*$L$1 -> 45 | F17: 6804.21.11 | G17: 7898646890 47 4
A18: 181 | B18: SERRA DIAM CT2 350 MM RD | C18: 160 | D18: =C18*$L$1 -> 160 | E18: 181 | F18: 6804.21.11 | G18: 7898926360 71 0
A19: 856 | B19: SERRA DIAM CT2 350 MM CANIO | C19: 130 | D19: =C19*$L$1 -> 130 | E19: 856 | F19: 6804.21.11 | G19: 7898646890 46 7
A20: 180 | B20: SERRA DIAM CT1 CONS E ASF 450 MM RD | C20: 470 | D20: =C20*$L$1 -> 470 | E20: 180 | F20: 6804.21.11 | G20: 7898926362 52 3
A21: # | B21: Trena
A22: 873 | B22: Trena 5M 19MM EMBORRACHADA | C22: 8 | D22: =C22*$L$1 -> 8 | E22: 873 | F22: 9017.80.90 | G22: 7898646890 48 1
A23: # | B23: Telas Galvanizadas
A24: 9030579 | B24: Tela 15X15 de Arame Galvanizado 1.24 DIM 7,5X50cm | C24: 145 | D24: =C24*$L$1 -> 145 | E24: 9030579 | F24: 7314.39.00 | G24: 7898926362 90 5
A25: 9030578 | B25: TELA 15X15 DE ARAME GALVANIZADO 1.24 DIM 10.5X50cm | C25: 150 | D25: =C25*$L$1 -> 150 | E25: 9030578 | F25: 7314.39.00 | G25: 7898926362 92 9
A26: 9030577 | B26: TELA 15X15 DE ARAME GALVANIZADO 1.24 DIM 12X50cm | C26: 155 | D26: =C26*$L$1 -> 155 | E26: 9030577 | F26: 7314.39.00 | G26: 7898926362 93 6
A27: 872 | B27: ROLO DE TELA DE DE FACHADA 1,24cm X0,5cm X 25mm GALVANIZACAO PESADA 155g m2 | C27: 380 | D27: =C27*$L$1 -> 380 | E27: 872 | F27: 7314.39.00 | G27: 7898646890 57 3
A28: # | B28: Rebolo Diamantado com rosca M14
A29: 9030579 | B29: Rebolo Diam 100 mm RD | C29: 40 | D29: =C29*$L$1 -> 40 | E29: 9030579 | F29: 6804.22.11 | G29: 7898926360 19 2
A30: 9030578 | B30: Rebolo Diam 100 mm PRIME | C30: 80 | D30: =C30*$L$1 -> 80 | E30: 9030578 | F30: 6804.22.11 | G30: 7898646890 05 4
A31: 9030577 | B31: Rebolo Diam 115 mm RED DIAM | C31: 45 | D31: =C31*$L$1 -> 45 | E31: 9030577 | F31: 6804.22.11 | G31: 7898926362 56 1
A32: 872 | B32: Rebolo DIAM 150 mm Red Diamond | C32: 90 | D32: =C32*$L$1 -> 90 | E32: 872 | F32: 6804.22.11 | G32: 7898926362 55 4
A33: 803 | B33: Rebolo Diam 180 mm RED DIAM | C33: 130 | D33: =C33*$L$1 -> 130 | E33: 803 | F33: 6804.22.11 | G33: 7898926361 97 7
A34: # | B34: Serra de Videa
A35: 164 | B35: Serra de Videa 110 X 24 D RD | C35: 8 | D35: =C35*$L$1 -> 8 | E35: 164 | F35: 8202.39.00 | G35: 7898913478 09 1
A36: 824 | B36: Serra de Grao TUNGSTENIO RD 110 MM | C36: 18 | D36: =C36*$L$1 -> 18 | E36: 824 | F36: 6804.21.11 | G36: 7898926360 67 3
A37: 174 | B37: Serra de Videa 7.1/4 X 24 D RD | C37: 20 | D37: =C37*$L$1 -> 20 | E37: 174 | F37: 8202.39.00 | G37: 7898913478 10 7
A38: 175 | B38: Serra de Videa 7 1/4 X 36 D RD | C38: 24 | D38: =C38*$L$1 -> 24 | E38: 175 | F38: 8202.39.00 | G38: 7898913478 11 4
A39: 468 | B39: Serra de Videa 9 1/4 X 24 D RD | C39: 35 | D39: =C39*$L$1 -> 35 | E39: 468 | F39: 8202.39.00 | G39: 7898913478 13 8
A40: 177 | B40: Serra de Videa 9 1/4 X 36 D RD | C40: 40 | D40: =C40*$L$1 -> 40 | E40: 177 | F40: 8202.39.00 | G40: 7898913478 14 5
A41: 166 | B41: Serra de Videa 12 X 48 D RD | C41: 70 | D41: =C41*$L$1 -> 70 | E41: 166 | F41: 8202.39.00 | G41: 7898913478 17 6
...

Sheet SolicitacaoParaCompra
C2: COTAÇÃO DE VENDA | H2: Código: | J2: F03 PG Nº06
C3: REPRESENTANTE: | J3: 44729
C4: DATA: | D4: =TODAY() -> 45683 | H4: Revisão: | J4: 01
C5: COTAÇÃO Nº: | H5: Página: | J5: 01/01
A6: NOME FANTASIA :
A7: RAZÃO SOCIAL :
A8: CNPJ: | E8: I.E:
A9: ENDEREÇO: | E9: BAIRRO
A10: CIDADE: | E10: UF | G10: CEP:
A11: TELEFONE(S): | E11: CONTATO
A12: E-MAIL:
A13: TRANSPORTADORA:
A14: ENDEREÇO DE ENTREGA:
A15: INFORMAÇÕES GERAIS
A16: Condição de pagamento | C16: Boleto Para 30 Dias
A17: Observações
A20: Código | B20: Qtde. | C20: Descrição | E20: Preço Tabela | F20: Preço Líquido | G20: NCM | H20: IPI | I20: Valor com IPI | J20: Subtotal
A21: =VLOOKUP(C21,Tabela!B$4:E$85,4,FALSE) -> #N/A | E21: =VLOOKUP(C21,Tabela!B$4:D$85,2,FALSE) -> #N/A | F21: =E21 -> #N/A | G21: =VLOOKUP(C21,Tabela!B$2:F$85,5,FALSE) -> #N/A | H21: 0 | I21: =IFERROR(H21*F21*B21,"") | J21: =IFERROR(F21*B21,"")
A22: =VLOOKUP(C22,Tabela!B$4:E$85,4,FALSE) -> #N/A | E22: =VLOOKUP(C22,Tabela!B$4:D$85,2,FALSE) -> #N/A | F22: =E22 -> #N/A | G22: =VLOOKUP(C22,Tabela!B$2:F$85,5,FALSE) -> #N/A | H22: 0 | I22: =IFERROR(H22*F22*B22,"") | J22: =IFERROR(F22*B22,"")
A23: =VLOOKUP(C23,Tabela!B$4:E$85,4,FALSE) -> #N/A | E23: =VLOOKUP(C23,Tabela!B$4:D$85,2,FALSE) -> #N/A | F23: =E23 -> #N/A | G23: =VLOOKUP(C23,Tabela!B$2:F$85,5,FALSE) -> #N/A | H23: 0 | I23: =IFERROR(H23*F23*B23,"") | J23: =IFERROR(F23*B23,"")
A24: =VLOOKUP(C24,Tabela!B$4:E$85,4,FALSE) -> #N/A | E24: =VLOOKUP(C24,Tabela!B$4:D$85,2,FALSE) -> #N/A | F24: =E24 -> #N/A | G24: =VLOOKUP(C24,Tabela!B$2:F$85,5,FALSE) -> #N/A | H24: 0 | I24: =IFERROR(H24*F24*B24,"") | J24: =IFERROR(F24*B24,"")
A25: =VLOOKUP(C25,Tabela!B$4:E$85,4,FALSE) -> #N/A | E25: =VLOOKUP(C25,Tabela!B$4:D$85,2,FALSE) -> #N/A | F25: =E25 -> #N/A | G25: =VLOOKUP(C25,Tabela!B$2:F$85,5,FALSE) -> #N/A | H25: 0 | I25: =IFERROR(H25*F25*B25,"") | J25: =IFERROR(F25*B25,"")
A26: =VLOOKUP(C26,Tabela!B$4:E$85,4,FALSE) -> #N/A | E26: =VLOOKUP(C26,Tabela!B$4:D$85,2,FALSE) -> #N/A | F26: =E26 -> #N/A | G26: =VLOOKUP(C26,Tabela!B$2:F$85,5,FALSE) -> #N/A | J26: =IFERROR(F26*B26,"")
A27: =VLOOKUP(C27,Tabela!B$4:E$85,4,FALSE) -> #N/A | E27: =VLOOKUP(C27,Tabela!B$4:D$85,2,FALSE) -> #N/A | F27: =E27 -> #N/A | G27: =VLOOKUP(C27,Tabela!B$2:F$85,5,FALSE) -> #N/A | J27: =IFERROR(F27*B27,"")
A28: =VLOOKUP(C28,Tabela!B$4:E$85,4,FALSE) -> #N/A | E28: =VLOOKUP(C28,Tabela!B$4:D$85,2,FALSE) -> #N/A | F28: =E28 -> #N/A | G28: =VLOOKUP(C28,Tabela!B$2:F$85,5,FALSE) -> #N/A | J28: =IFERROR(F28*B28,"")
A29: =VLOOKUP(C29,Tabela!B$4:E$85,4,FALSE) -> #N/A | E29: =VLOOKUP(C29,Tabela!B$4:D$85,2,FALSE) -> #N/A | F29: =E29 -> #N/A | G29: =VLOOKUP(C29,Tabela!B$2:F$85,5,FALSE) -> #N/A | J29: =IFERROR(F29*B29,"")
A30: =VLOOKUP(C30,Tabela!B$4:E$85,4,FALSE) -> #N/A | E30: =VLOOKUP(C30,Tabela!B$4:D$85,2,FALSE) -> #N/A | F30: =E30 -> #N/A | G30: =VLOOKUP(C30,Tabela!B$2:F$85,5,FALSE) -> #N/A | J30: =IFERROR(F30*B30,"")
A31: =VLOOKUP(C31,Tabela!B$4:E$85,4,FALSE) -> #N/A | E31: =VLOOKUP(C31,Tabela!B$4:D$85,2,FALSE) -> #N/A | F31: =E31 -> #N/A | G31: =VLOOKUP(C31,Tabela!B$2:F$85,5,FALSE) -> #N/A | J31: =IFERROR(F31*B31,"")
A32: =VLOOKUP(C32,Tabela!B$4:E$85,4,FALSE) -> #N/A | E32: =VLOOKUP(C32,Tabela!B$4:D$85,2,FALSE) -> #N/A | F32: =E32 -> #N/A | G32: =VLOOKUP(C32,Tabela!B$2:F$85,5,FALSE) -> #N/A | J32: =IFERROR(F32*B32,"")
A33: =VLOOKUP(C33,Tabela!B$4:E$85,4,FALSE) -> #N/A | E33: =VLOOKUP(C33,Tabela!B$4:D$85,2,FALSE) -> #N/A | F33: =E33 -> #N/A | G33: =VLOOKUP(C33,Tabela!B$2:F$85,5,FALSE) -> #N/A | J33: =IFERROR(F33*B33,"")
A34: =VLOOKUP(C34,Tabela!B$4:E$85,4,FALSE) -> #N/A | E34: =VLOOKUP(C34,Tabela!B$4:D$85,2,FALSE) -> #N/A | F34: =E34 -> #N/A | G34: =VLOOKUP(C34,Tabela!B$2:F$85,5,FALSE) -> #N/A | J34: =IFERROR(F34*B34,"")
A35: =VLOOKUP(C35,Tabela!B$4:E$85,4,FALSE) -> #N/A | E35: =VLOOKUP(C35,Tabela!B$4:D$85,2,FALSE) -> #N/A | F35: =E35 -> #N/A | G35: =VLOOKUP(C35,Tabela!B$2:F$85,5,FALSE) -> #N/A | J35: =IFERROR(F35*B35,"")
A36: =VLOOKUP(C36,Tabela!B$4:E$85,4,FALSE) -> #N/A | E36: =VLOOKUP(C36,Tabela!B$4:D$85,2,FALSE) -> #N/A | F36: =E36 -> #N/A | G36: =VLOOKUP(C36,Tabela!B$2:F$85,5,FALSE) -> #N/A | J36: =IFERROR(F36*B36,"")
A37: =VLOOKUP(C37,Tabela!B$4:E$85,4,FALSE) -> #N/A | E37: =VLOOKUP(C37,Tabela!B$4:D$85,2,FALSE) -> #N/A | F37: =E37 -> #N/A | G37: =VLOOKUP(C37,Tabela!B$2:F$85,5,FALSE) -> #N/A | J37: =IFERROR(F37*B37,"")
... A42: =VLOOKUP(C42,Tabela!B$4:E$85,4,FALSE) -> #N/A | E42: =VLOOKUP(C42,Tabela!B$4:D$85,2,FALSE) -> #N/A | F42: =E42 -> #N/A | G42: =VLOOKUP(C42,Tabela!B$2:F$85,5,FALSE) -> #N/A | J42: =IFERROR(F42*B42,"")
A43: =VLOOKUP(C43,Tabela!B$4:E$85,4,FALSE) -> #N/A | E43: =VLOOKUP(C43,Tabela!B$4:D$85,2,FALSE) -> #N/A | F43: =E43 -> #N/A | G43: =VLOOKUP(C43,Tabela!B$2:F$85,5,FALSE) -> #N/A | I43: =IFERROR(H43*F43*B43,"") | J43: =IFERROR(F43*B43,"")
H44: ,
H45: VL. SUBTOTAL | J45: =SUM(J21:J44) -> 0
H46: VALOR IPI | J46: =SUM(H21:H43) -> 0
H47: VL. FINAL | J47: =J45+J46 -> 0
...

Sheet Códigos
C1: www.guiadecompra.com
B2: Compras
B4: CÓDIGO | C4: DESCRIÇÃO DOS PRODUTOS | D4: UN | F4: Cons / mês
B5: COD | C5: DESCRICAO | D5: IPI | F5: NCM | G5: COD EAN
A6: 1 | B6: FLAP DISC ZIRC
A7: =A6+1 -> 2 | B7: 8 | C7: 115X22 mm Flap Disc Zirc G40 T27 | D7: 0 | E7: 4.8 | F7: 6805.30.20 | G7: 7898926362 57 8
A8: =A7+1 -> 3 | B8: 4 | C8: 115X22 mm Flap Disc Zirc G60 T27 | D8: 0 | E8: 4.8 | F8: 6805.30.20 | G8: 7898926362 59 2
A9: =A8+1 -> 4 | B9: 6 | C9: 115X22 mm Flap Disc Zirc G80 T27 | D9: 0 | E9: 4.8 | F9: 6805.30.20 | G9: 7898926362 61 5
A10: =A9+1 -> 5 | B10: 1 | C10: 115X22 mm Flap Disc Zirc G120 T 27 | D10: 0 | E10: 4.8 | F10: 6805.30.20 | G10: 7898926362 63 9
A11: =#REF!+1 -> #REF!
A12: =A11+1 -> #REF! | C12: Broca sds Plus
A13: =#REF!+1 -> #REF! | B13: 90 | C13: Broca sds Plus 5x110 mm RD | D13: 0.052 | E13: 4 | F13: 8207.50.11 | G13: 7898926362 03 5
A14: =A13+1 -> #REF! | B14: 92 | C14: Broca sds Plus 6x110 mm RD | D14: 0.052 | E14: 4 | F14: 8207.50.11 | G14: 7898926362 05 9
A15: =A14+1 -> #REF! | B15: 96 | C15: Broca sds Plus 8x110 mm RD | D15: 0.052 | E15: 4.5 | F15: 8207.50.11 | G15: 7898926362 08 0
A16: =#REF!+1 -> #REF! | B16: 91 | C16: Broca sds Plus 5x160 mm RD | D16: 0.052 | E16: 4.5 | F16: 8207.50.11 | G16: 7898926362 04 2
A17: =A16+1 -> #REF! | B17: 93 | C17: Broca sds Plus 6x160 mm RD | D17: 0.052 | E17: 5 | F17: 8207.50.11 | G17: 7898926360 69 7
A18: =#REF!+1 -> #REF! | B18: 60 | C18: Broca sds Plus 8x160 mm RD | D18: 0.052 | E18: 5.5 | F18: 8207.50.11 | G18: 7898913478 64 0
B19: 59 | C19: Broca sds Plus 10x160 mm RD | D19: 0.052 | E19: 6 | F19: 8207.50.11 | G19: 7898913478 65 7
B20: 334 | C20: Broca sds Plus 12x160 mm RD | D20: 0.052 | E20: 6.5 | F20: 8207.50.11 | G20: 7898913478 66 4
A21: =A18+1 -> #REF! | B21: 67 | C21: Broca sds Plus 13x160 mm RD | D21: 0.052 | E21: 7 | F21: 8207.50.11 | G21: 7898926362 15 8
A22: =A21+1 -> #REF! | B22: 70 | C22: Broca sds Plus 14x160 mm RD | D22: 0.052 | E22: 7.5 | F22: 8207.50.11 | G22: 7898913478 67 1
B23: 72 | C23: Broca sds Plus 16x160 mm RD | D23: 0.052 | E23: 9 | F23: 8207.50.11 | G23: 7898913478 68 8
A24: =A22+1 -> #REF! | B24: 94 | C24: Broca sds Plus 6x210 mm RD | D24: 0.052 | E24: 7 | F24: 8207.50.11 | G24: 7898926362 06 6
B25: 809 | C25: Broca sds Plus 8X210 mm RD | D25: 0.052 | E25: 8 | F25: 8207.50.11 | G25: 7898913478 42 8
A26: =A24+1 -> #REF! | B26: 810 | C26: Broca sds Plus 10X210 mm RD | D26: 0.052 | E26: 9 | F26: 8207.50.11 | G26: 7898913478 43 5
A27: =A26+1 -> #REF! | B27: 828 | C27: Broca sds Plus 12X210 mm RD | D27: 0.052 | E27: 10 | F27: 8207.50.11 | G27: 7898646890 00 9
A28: =A27+1 -> #REF! | B28: 829 | C28: Broca sds Plus 14X210 mm RD | D28: 0.052 | E28: 12 | F28: 8207.50.11 | G28: 7898646890 33 7
B29: 73 | C29: Broca sds Plus 16x260 mm RD | D29: 0.052 | E29: 15 | F29: 8207.50.11 | G29: 7898913478 73 2
B30: 84 | C30: Broca sds Plus 25x260 mm RD | D30: 0.052 | E30: 25 | F30: 8207.50.11 | G30: 7898926362 30 1
A31: =#REF!+1 -> #REF!
A32: =#REF!+1 -> #REF! | C32: Disco Diam
A33: =#REF!+1 -> #REF! | C33: Linha extra
A34: =A33+1 -> #REF! | B34: 125 | C34: Disco Diam PORCELANATO extra 110 RED DIAMOND | D34: 0 | E34: 10 | F34: 6804.21.11 | G34: 7898926362 51 6
A35: =A34+1 -> #REF! | B35: 129 | C35: Disco Diam SEG extra 110 RED DIAMOND | D35: 0 | E35: 10 | F35: 6804.21.11 | G35: 7898926362 43 1
A36: =A35+1 -> #REF! | B36: 137 | C36: Disco Diam TURBO extra RED DIAMOND | D36: 0 | E36: 10 | F36: 6804.21.11 | G36: 7898926362 42 4
C37: Linha prime
B38: 850 | C38: Disco Diam PORCELANATO PRIME DIAMOND (turbo) | D38: 0 | E38: 20 | F38: 6804.21.11 | G38: 7898646890 01 6
B39: 144 | C39: Disco Diam TURBO 110 mm PRIME DIAMOND | D39: 0 | E39: 20 | F39: 6804.21.11 | G39: 7898646890 19 1
B40: 190 | C40: Disco Diam SEG 110 PRIME DIAMOND | D40: 0 | E40: 20 | F40: 6804.21.11 | G40: 7898646890 18 4
B41: 837 | C41: Disco Diam PORCELANATO PRIME CONTINUO | D41: 0 | E41: 20 | F41: 6804.21.11 | G41: 7898646890 06 1
...
